BEGIN:VCALENDAR
VERSION:2.0
PRODID:-//Billy Lawlor - ECPv6.13.2.1//NONSGML v1.0//EN
CALSCALE:GREGORIAN
METHOD:PUBLISH
X-WR-CALNAME:Billy Lawlor
X-ORIGINAL-URL:https://www.billylawlor.com
X-WR-CALDESC:Events for Billy Lawlor
REFRESH-INTERVAL;VALUE=DURATION:PT1H
X-Robots-Tag:noindex
X-PUBLISHED-TTL:PT1H
BEGIN:VTIMEZONE
TZID:UTC
BEGIN:STANDARD
TZOFFSETFROM:+0000
TZOFFSETTO:+0000
TZNAME:UTC
DTSTART:20180101T000000
END:STANDARD
END:VTIMEZONE
BEGIN:VEVENT
DTSTART;TZID=UTC:20190728T120000
DTEND;TZID=UTC:20190728T150000
DTSTAMP:20260425T154731
CREATED:20190618T024950Z
LAST-MODIFIED:20190618T024950Z
UID:601-1564315200-1564326000@www.billylawlor.com
SUMMARY:Spring Lake Bath & Tennis Club\, Private Event
DESCRIPTION:Member Event\nBilly Lawlor Jazz Trio\nNoon – 3 pm
URL:https://www.billylawlor.com/concerts/spring-lake-bath-tennis-club-private-event/
LOCATION:Spring Lake Bath & Tennis Club\, Spring Lake\, NJ\, 07762
CATEGORIES:Private Event,Spring Lake Bath & Tennis Club
END:VEVENT
BEGIN:VEVENT
DTSTART;VALUE=DATE:20190725
DTEND;VALUE=DATE:20190726
DTSTAMP:20260425T154731
CREATED:20190618T024544Z
LAST-MODIFIED:20190618T024544Z
UID:597-1564012800-1564099199@www.billylawlor.com
SUMMARY:Spring Lake Bath & Tennis Club\, Private Party
DESCRIPTION:Spring Lake Bath & Tennis Club\, Private Party\nPrivate Event
URL:https://www.billylawlor.com/concerts/spring-lake-bath-tennis-club-private-party/
LOCATION:Spring Lake Bath & Tennis Club\, Spring Lake\, NJ\, 07762
CATEGORIES:Spring Lake Bath & Tennis Club
END:VEVENT
BEGIN:VEVENT
DTSTART;TZID=UTC:20180903T120000
DTEND;TZID=UTC:20180903T150000
DTSTAMP:20260425T154731
CREATED:20180516T062726Z
LAST-MODIFIED:20180516T062726Z
UID:466-1535976000-1535986800@www.billylawlor.com
SUMMARY:Spring Lake Bath & Tennis Club
DESCRIPTION:Billy Lawlor Jazz Trio
URL:https://www.billylawlor.com/concerts/spring-lake-bath-tennis-club-3/
CATEGORIES:Spring Lake Bath & Tennis Club
END:VEVENT
BEGIN:VEVENT
DTSTART;TZID=UTC:20180819T120000
DTEND;TZID=UTC:20180819T150000
DTSTAMP:20260425T154731
CREATED:20180516T062212Z
LAST-MODIFIED:20180516T062238Z
UID:454-1534680000-1534690800@www.billylawlor.com
SUMMARY:Spring Lake Bath & Tennis Club
DESCRIPTION:Billy Lawlor Solo
URL:https://www.billylawlor.com/concerts/spring-lake-bath-tennis-club-2/
LOCATION:Spring Lake Bath & Tennis Club\, Spring Lake\, NJ\, 07762
CATEGORIES:Spring Lake Bath & Tennis Club
END:VEVENT
END:VCALENDAR