BEGIN:VCALENDAR
VERSION:2.0
PRODID:-//Billy Lawlor - ECPv6.13.2.1//NONSGML v1.0//EN
CALSCALE:GREGORIAN
METHOD:PUBLISH
X-ORIGINAL-URL:https://www.billylawlor.com
X-WR-CALDESC:Events for Billy Lawlor
REFRESH-INTERVAL;VALUE=DURATION:PT1H
X-Robots-Tag:noindex
X-PUBLISHED-TTL:PT1H
BEGIN:VTIMEZONE
TZID:UTC
BEGIN:STANDARD
TZOFFSETFROM:+0000
TZOFFSETTO:+0000
TZNAME:UTC
DTSTART:20180101T000000
END:STANDARD
END:VTIMEZONE
BEGIN:VTIMEZONE
TZID:America/New_York
BEGIN:DAYLIGHT
TZOFFSETFROM:-0500
TZOFFSETTO:-0400
TZNAME:EDT
DTSTART:20190310T070000
END:DAYLIGHT
BEGIN:STANDARD
TZOFFSETFROM:-0400
TZOFFSETTO:-0500
TZNAME:EST
DTSTART:20191103T060000
END:STANDARD
END:VTIMEZONE
BEGIN:VEVENT
DTSTART;TZID=UTC:20190731T113000
DTEND;TZID=UTC:20190731T153000
DTSTAMP:20260425T142051
CREATED:20190618T025142Z
LAST-MODIFIED:20190618T025142Z
UID:603-1564572600-1564587000@www.billylawlor.com
SUMMARY:NY Private Event
DESCRIPTION:NY Private Event
URL:https://www.billylawlor.com/concerts/ny-private-event-3/
LOCATION:New York
CATEGORIES:New York,Private Event
END:VEVENT
BEGIN:VEVENT
DTSTART;TZID=UTC:20190728T120000
DTEND;TZID=UTC:20190728T150000
DTSTAMP:20260425T142051
CREATED:20190618T024950Z
LAST-MODIFIED:20190618T024950Z
UID:601-1564315200-1564326000@www.billylawlor.com
SUMMARY:Spring Lake Bath & Tennis Club\, Private Event
DESCRIPTION:Member Event\nBilly Lawlor Jazz Trio\nNoon – 3 pm
URL:https://www.billylawlor.com/concerts/spring-lake-bath-tennis-club-private-event/
LOCATION:Spring Lake Bath & Tennis Club\, Spring Lake\, NJ\, 07762
CATEGORIES:Private Event,Spring Lake Bath & Tennis Club
END:VEVENT
BEGIN:VEVENT
DTSTART;TZID=UTC:20190718T113000
DTEND;TZID=UTC:20190718T153000
DTSTAMP:20260425T142051
CREATED:20190618T023932Z
LAST-MODIFIED:20190618T023952Z
UID:590-1563449400-1563463800@www.billylawlor.com
SUMMARY:NY Private Event
DESCRIPTION:Private Event\nNew York private event \n11:30 am – 3:30 pm
URL:https://www.billylawlor.com/concerts/ny-private-event-2/
CATEGORIES:Private Event
END:VEVENT
BEGIN:VEVENT
DTSTART;TZID=UTC:20190717T113000
DTEND;TZID=UTC:20190717T153000
DTSTAMP:20260425T142051
CREATED:20190618T023813Z
LAST-MODIFIED:20190618T023813Z
UID:588-1563363000-1563377400@www.billylawlor.com
SUMMARY:NY Private Event
DESCRIPTION:Private Event\nNew York private event \n11:30 am – 3:30 pm
URL:https://www.billylawlor.com/concerts/ny-private-event/
CATEGORIES:Private Event
END:VEVENT
BEGIN:VEVENT
DTSTART;TZID=UTC:20190711T113000
DTEND;TZID=UTC:20190711T153000
DTSTAMP:20260425T142051
CREATED:20190618T023537Z
LAST-MODIFIED:20190618T023537Z
UID:584-1562844600-1562859000@www.billylawlor.com
SUMMARY:Spring Lake Private Event
DESCRIPTION:Private Event\nSpring Lake private event \n11:30 am – 3:30 pm
URL:https://www.billylawlor.com/concerts/spring-lake-private-event-2/
LOCATION:Spring Lake
CATEGORIES:Private Event
END:VEVENT
BEGIN:VEVENT
DTSTART;TZID=UTC:20190710T110000
DTEND;TZID=UTC:20190710T153000
DTSTAMP:20260425T142051
CREATED:20190618T023442Z
LAST-MODIFIED:20190618T023442Z
UID:582-1562756400-1562772600@www.billylawlor.com
SUMMARY:Spring Lake Private Event
DESCRIPTION:Private Event\nSpring Lake private event \n11:30 am – 3:30 pm
URL:https://www.billylawlor.com/concerts/spring-lake-private-event/
LOCATION:Spring Lake
CATEGORIES:Private Event
END:VEVENT
BEGIN:VEVENT
DTSTART;TZID=UTC:20190628T190000
DTEND;TZID=UTC:20190628T220000
DTSTAMP:20260425T142051
CREATED:20190618T022330Z
LAST-MODIFIED:20190618T022330Z
UID:570-1561748400-1561759200@www.billylawlor.com
SUMMARY:Bay Head Yacht Club Member Event
DESCRIPTION:Billy Lawlor Jazz Trio
URL:https://www.billylawlor.com/concerts/bay-head-yacht-club-member-event-5/
LOCATION:Bay Head Yacht Club
CATEGORIES:Bay Head Yacht Club,Private Event
END:VEVENT
BEGIN:VEVENT
DTSTART;TZID=UTC:20190627T113000
DTEND;TZID=UTC:20190627T150000
DTSTAMP:20260425T142051
CREATED:20190618T022210Z
LAST-MODIFIED:20190618T022210Z
UID:568-1561635000-1561647600@www.billylawlor.com
SUMMARY:Private Event
DESCRIPTION:New York \nPrivate Event
URL:https://www.billylawlor.com/concerts/private-event-2/
CATEGORIES:Private Event
END:VEVENT
BEGIN:VEVENT
DTSTART;TZID=UTC:20190626T113000
DTEND;TZID=UTC:20190626T153000
DTSTAMP:20260425T142051
CREATED:20190618T022045Z
LAST-MODIFIED:20190618T022045Z
UID:565-1561548600-1561563000@www.billylawlor.com
SUMMARY:Private Event
DESCRIPTION:Spring Lake\, NJ
URL:https://www.billylawlor.com/concerts/private-event/
LOCATION:Spring Lake
CATEGORIES:Private Event
END:VEVENT
BEGIN:VEVENT
DTSTART;TZID=America/New_York:20190430T120000
DTEND;TZID=America/New_York:20190430T160000
DTSTAMP:20260425T142051
CREATED:20190321T193635Z
LAST-MODIFIED:20190321T193635Z
UID:547-1556625600-1556640000@www.billylawlor.com
SUMMARY:Private Event\, New York
DESCRIPTION:Private Event\, New York
URL:https://www.billylawlor.com/concerts/private-event-new-york-18/
CATEGORIES:Private Event
ATTACH;FMTTYPE=image/jpeg:https://www.billylawlor.com/wp-content/uploads/2017/11/BLSiteIcon-512x512.jpg
END:VEVENT
BEGIN:VEVENT
DTSTART;TZID=America/New_York:20190424T120000
DTEND;TZID=America/New_York:20190424T160000
DTSTAMP:20260425T142051
CREATED:20190321T193358Z
LAST-MODIFIED:20190321T193358Z
UID:543-1556107200-1556121600@www.billylawlor.com
SUMMARY:Private Event\, New York
DESCRIPTION:Private Event\, New York
URL:https://www.billylawlor.com/concerts/private-event-new-york-16/
CATEGORIES:Private Event
ATTACH;FMTTYPE=image/jpeg:https://www.billylawlor.com/wp-content/uploads/2017/11/BLSiteIcon-512x512.jpg
END:VEVENT
BEGIN:VEVENT
DTSTART;TZID=America/New_York:20190417T120000
DTEND;TZID=America/New_York:20190417T160000
DTSTAMP:20260425T142051
CREATED:20190321T193151Z
LAST-MODIFIED:20190321T193151Z
UID:541-1555502400-1555516800@www.billylawlor.com
SUMMARY:Private Event\, Spring Lake\, NJ
DESCRIPTION:Private Event\, Spring Lake\, NJ \n12 – 4 pm
URL:https://www.billylawlor.com/concerts/private-event-spring-lake-nj-12/
CATEGORIES:Private Event
ATTACH;FMTTYPE=image/jpeg:https://www.billylawlor.com/wp-content/uploads/2017/11/BLSiteIcon-512x512.jpg
END:VEVENT
BEGIN:VEVENT
DTSTART;TZID=America/New_York:20190416T120000
DTEND;TZID=America/New_York:20190416T160000
DTSTAMP:20260425T142051
CREATED:20190321T192832Z
LAST-MODIFIED:20190321T192941Z
UID:539-1555416000-1555430400@www.billylawlor.com
SUMMARY:Private Event\, Spring Lake\, NJ
DESCRIPTION:Private Event\, Spring Lake\, NJ
URL:https://www.billylawlor.com/concerts/private-event-spring-lake-nj-11/
CATEGORIES:Private Event
ATTACH;FMTTYPE=image/jpeg:https://www.billylawlor.com/wp-content/uploads/2017/11/BLSiteIcon-512x512.jpg
END:VEVENT
BEGIN:VEVENT
DTSTART;TZID=America/New_York:20190410T120000
DTEND;TZID=America/New_York:20190410T160000
DTSTAMP:20260425T142051
CREATED:20190321T192549Z
LAST-MODIFIED:20190321T192549Z
UID:537-1554897600-1554912000@www.billylawlor.com
SUMMARY:Private Event\, New York
DESCRIPTION:Private Event\, New York
URL:https://www.billylawlor.com/concerts/private-event-new-york-15/
CATEGORIES:Private Event
ATTACH;FMTTYPE=image/jpeg:https://www.billylawlor.com/wp-content/uploads/2017/11/BLSiteIcon-512x512.jpg
END:VEVENT
BEGIN:VEVENT
DTSTART;TZID=America/New_York:20190404T120000
DTEND;TZID=America/New_York:20190404T160000
DTSTAMP:20260425T142051
CREATED:20190321T192345Z
LAST-MODIFIED:20190321T192345Z
UID:535-1554379200-1554393600@www.billylawlor.com
SUMMARY:Private Event\, Spring Lake\, NJ
DESCRIPTION:Private Event\, Spring Lake\, NJ
URL:https://www.billylawlor.com/concerts/private-event-spring-lake-nj-10/
CATEGORIES:Private Event
ATTACH;FMTTYPE=image/jpeg:https://www.billylawlor.com/wp-content/uploads/2017/11/BLSiteIcon-512x512.jpg
END:VEVENT
BEGIN:VEVENT
DTSTART;TZID=America/New_York:20190402T120000
DTEND;TZID=America/New_York:20190402T160000
DTSTAMP:20260425T142051
CREATED:20190321T192116Z
LAST-MODIFIED:20190321T192116Z
UID:533-1554206400-1554220800@www.billylawlor.com
SUMMARY:Private Event\, New York
DESCRIPTION:Private Event\, New York
URL:https://www.billylawlor.com/concerts/private-event-new-york-14/
CATEGORIES:Private Event
ATTACH;FMTTYPE=image/jpeg:https://www.billylawlor.com/wp-content/uploads/2017/11/BLSiteIcon-512x512.jpg
END:VEVENT
BEGIN:VEVENT
DTSTART;TZID=America/New_York:20190401T120000
DTEND;TZID=America/New_York:20190401T160000
DTSTAMP:20260425T142051
CREATED:20190321T192020Z
LAST-MODIFIED:20190321T192020Z
UID:531-1554120000-1554134400@www.billylawlor.com
SUMMARY:Private Event\, New York
DESCRIPTION:Private Event\, New York
URL:https://www.billylawlor.com/concerts/private-event-new-york-13/
CATEGORIES:Private Event
ATTACH;FMTTYPE=image/jpeg:https://www.billylawlor.com/wp-content/uploads/2017/11/BLSiteIcon-512x512.jpg
END:VEVENT
BEGIN:VEVENT
DTSTART;TZID=America/New_York:20190328T120000
DTEND;TZID=America/New_York:20190328T160000
DTSTAMP:20260425T142051
CREATED:20190321T191630Z
LAST-MODIFIED:20190321T191630Z
UID:526-1553774400-1553788800@www.billylawlor.com
SUMMARY:Private Event\, Spring Lake
DESCRIPTION:Private Event\, Spring Lake\, NJ
URL:https://www.billylawlor.com/concerts/private-event-spring-lake/
CATEGORIES:Private Event
END:VEVENT
BEGIN:VEVENT
DTSTART;TZID=America/New_York:20190320T120000
DTEND;TZID=America/New_York:20190320T160000
DTSTAMP:20260425T142051
CREATED:20190321T193740Z
LAST-MODIFIED:20190321T193740Z
UID:549-1553083200-1553097600@www.billylawlor.com
SUMMARY:Private Event\, Spring Lake
DESCRIPTION:Private Event\, Spring Lake
URL:https://www.billylawlor.com/concerts/private-event-spring-lake-2/
CATEGORIES:Private Event
ATTACH;FMTTYPE=image/jpeg:https://www.billylawlor.com/wp-content/uploads/2017/11/BLSiteIcon-512x512.jpg
END:VEVENT
BEGIN:VEVENT
DTSTART;TZID=UTC:20180928T153000
DTEND;TZID=UTC:20180928T230000
DTSTAMP:20260425T142051
CREATED:20180516T063010Z
LAST-MODIFIED:20180516T063010Z
UID:474-1538148600-1538175600@www.billylawlor.com
SUMMARY:Wedding
DESCRIPTION:Private Event – Wedding \nHowell\, NJ
URL:https://www.billylawlor.com/concerts/wedding/
CATEGORIES:Private Event
END:VEVENT
BEGIN:VEVENT
DTSTART;VALUE=DATE:20180927
DTEND;VALUE=DATE:20180928
DTSTAMP:20260425T142051
CREATED:20180516T062904Z
LAST-MODIFIED:20180516T062904Z
UID:472-1538006400-1538092799@www.billylawlor.com
SUMMARY:Private Event - New York
DESCRIPTION:
URL:https://www.billylawlor.com/concerts/private-event-new-york-9/
CATEGORIES:Private Event
END:VEVENT
BEGIN:VEVENT
DTSTART;VALUE=DATE:20180926
DTEND;VALUE=DATE:20180927
DTSTAMP:20260425T142051
CREATED:20180516T062837Z
LAST-MODIFIED:20180516T062837Z
UID:470-1537920000-1538006399@www.billylawlor.com
SUMMARY:Private Event - New York
DESCRIPTION:
URL:https://www.billylawlor.com/concerts/private-event-new-york-8/
CATEGORIES:Private Event
END:VEVENT
BEGIN:VEVENT
DTSTART;VALUE=DATE:20180925
DTEND;VALUE=DATE:20180926
DTSTAMP:20260425T142051
CREATED:20180516T062807Z
LAST-MODIFIED:20180516T062807Z
UID:468-1537833600-1537919999@www.billylawlor.com
SUMMARY:Private Event - New York
DESCRIPTION:
URL:https://www.billylawlor.com/concerts/private-event-new-york-7/
CATEGORIES:Private Event
END:VEVENT
BEGIN:VEVENT
DTSTART;TZID=UTC:20180825T183000
DTEND;TZID=UTC:20180825T183000
DTSTAMP:20260425T142051
CREATED:20180516T062524Z
LAST-MODIFIED:20180516T062524Z
UID:461-1535221800-1535221800@www.billylawlor.com
SUMMARY:Manasquan River Golf Club
DESCRIPTION:Member Event \nBilly Lawlor Jazz Trio
URL:https://www.billylawlor.com/concerts/manasquan-river-golf-club/
LOCATION:Manasquan River Golf Club
CATEGORIES:Private Event
END:VEVENT
BEGIN:VEVENT
DTSTART;VALUE=DATE:20180822
DTEND;VALUE=DATE:20180823
DTSTAMP:20260425T142051
CREATED:20180516T062352Z
LAST-MODIFIED:20180516T062352Z
UID:459-1534896000-1534982399@www.billylawlor.com
SUMMARY:Private Event - New York
DESCRIPTION:
URL:https://www.billylawlor.com/concerts/private-event-new-york-6/
CATEGORIES:Private Event
END:VEVENT
BEGIN:VEVENT
DTSTART;VALUE=DATE:20180821
DTEND;VALUE=DATE:20180822
DTSTAMP:20260425T142051
CREATED:20180516T062311Z
LAST-MODIFIED:20180516T062311Z
UID:457-1534809600-1534895999@www.billylawlor.com
SUMMARY:Private Event - Spring Lake\, NJ
DESCRIPTION:
URL:https://www.billylawlor.com/concerts/private-event-spring-lake-nj-9/
CATEGORIES:Private Event
END:VEVENT
BEGIN:VEVENT
DTSTART;VALUE=DATE:20180802
DTEND;VALUE=DATE:20180803
DTSTAMP:20260425T142051
CREATED:20180516T061437Z
LAST-MODIFIED:20180516T061437Z
UID:442-1533168000-1533254399@www.billylawlor.com
SUMMARY:Private Event - New York
DESCRIPTION:
URL:https://www.billylawlor.com/concerts/private-event-new-york-5/
CATEGORIES:Private Event
END:VEVENT
BEGIN:VEVENT
DTSTART;VALUE=DATE:20180801
DTEND;VALUE=DATE:20180802
DTSTAMP:20260425T142051
CREATED:20180516T061312Z
LAST-MODIFIED:20180516T061312Z
UID:440-1533081600-1533167999@www.billylawlor.com
SUMMARY:Private Event - New York
DESCRIPTION:
URL:https://www.billylawlor.com/concerts/private-event-new-york-4/
CATEGORIES:Private Event
END:VEVENT
BEGIN:VEVENT
DTSTART;VALUE=DATE:20180718
DTEND;VALUE=DATE:20180719
DTSTAMP:20260425T142051
CREATED:20180516T061130Z
LAST-MODIFIED:20180516T061130Z
UID:436-1531872000-1531958399@www.billylawlor.com
SUMMARY:Private Event - New York
DESCRIPTION:
URL:https://www.billylawlor.com/concerts/private-event-new-york-3/
CATEGORIES:Private Event
END:VEVENT
BEGIN:VEVENT
DTSTART;VALUE=DATE:20180717
DTEND;VALUE=DATE:20180718
DTSTAMP:20260425T142051
CREATED:20180516T061058Z
LAST-MODIFIED:20180516T061058Z
UID:434-1531785600-1531871999@www.billylawlor.com
SUMMARY:Private Event - New York
DESCRIPTION:
URL:https://www.billylawlor.com/concerts/private-event-new-york-2/
CATEGORIES:Private Event
END:VEVENT
END:VCALENDAR